BEGIN:VCALENDAR
VERSION:2.0
PRODID:-//Lifehouse Performing Arts Academy - ECPv6.8.3//NONSGML v1.0//EN
CALSCALE:GREGORIAN
METHOD:PUBLISH
X-ORIGINAL-URL:https://www.lifehouseacademy.com
X-WR-CALDESC:Events for Lifehouse Performing Arts Academy
REFRESH-INTERVAL;VALUE=DURATION:PT1H
X-Robots-Tag:noindex
X-PUBLISHED-TTL:PT1H
BEGIN:VTIMEZONE
TZID:UTC
BEGIN:STANDARD
TZOFFSETFROM:+0000
TZOFFSETTO:+0000
TZNAME:UTC
DTSTART:20200101T000000
END:STANDARD
END:VTIMEZONE
BEGIN:VEVENT
DTSTART;TZID=UTC:20210501T080000
DTEND;TZID=UTC:20210501T170000
DTSTAMP:20260423T144050
CREATED:20200914T225508Z
LAST-MODIFIED:20200914T225614Z
UID:836-1619856000-1619888400@www.lifehouseacademy.com
SUMMARY:Tuition & Partial June Tuition Due
DESCRIPTION:Tuition + 1/2 Tuition for June Due Salem / Tuition + 3/4 Tuition for June Due Herriman
URL:https://www.lifehouseacademy.com/event/tuition-partial-june-tuition-due/
CATEGORIES:Tuition & Fees Due
END:VEVENT
BEGIN:VEVENT
DTSTART;VALUE=DATE:20210401
DTEND;VALUE=DATE:20210402
DTSTAMP:20260423T144050
CREATED:20200914T225341Z
LAST-MODIFIED:20200914T225341Z
UID:834-1617235200-1617321599@www.lifehouseacademy.com
SUMMARY:Tuition & Full Company Costume Balance Due
DESCRIPTION:$ TBD
URL:https://www.lifehouseacademy.com/event/tuition-full-company-costume-balance-due/
CATEGORIES:Tuition & Fees Due
END:VEVENT
BEGIN:VEVENT
DTSTART;VALUE=DATE:20210301
DTEND;VALUE=DATE:20210302
DTSTAMP:20260423T144050
CREATED:20200914T225255Z
LAST-MODIFIED:20200914T225255Z
UID:832-1614556800-1614643199@www.lifehouseacademy.com
SUMMARY:Tuition Due
DESCRIPTION:
URL:https://www.lifehouseacademy.com/event/tuition-due-5/
CATEGORIES:Tuition & Fees Due
END:VEVENT
BEGIN:VEVENT
DTSTART;VALUE=DATE:20210201
DTEND;VALUE=DATE:20210202
DTSTAMP:20260423T144050
CREATED:20200914T225216Z
LAST-MODIFIED:20200914T225216Z
UID:830-1612137600-1612223999@www.lifehouseacademy.com
SUMMARY:Tuition & All Recital Fees Due
DESCRIPTION:Non-Refundable
URL:https://www.lifehouseacademy.com/event/tuition-all-recital-fees-due/
CATEGORIES:Tuition & Fees Due
END:VEVENT
BEGIN:VEVENT
DTSTART;VALUE=DATE:20210101
DTEND;VALUE=DATE:20210102
DTSTAMP:20260423T144050
CREATED:20200914T225144Z
LAST-MODIFIED:20200914T225144Z
UID:828-1609459200-1609545599@www.lifehouseacademy.com
SUMMARY:Tuition Due
DESCRIPTION:
URL:https://www.lifehouseacademy.com/event/tuition-due-4/
CATEGORIES:Tuition & Fees Due
END:VEVENT
BEGIN:VEVENT
DTSTART;VALUE=DATE:20201201
DTEND;VALUE=DATE:20201202
DTSTAMP:20260423T144050
CREATED:20200914T225116Z
LAST-MODIFIED:20200914T225116Z
UID:826-1606780800-1606867199@www.lifehouseacademy.com
SUMMARY:Tuition Due
DESCRIPTION:
URL:https://www.lifehouseacademy.com/event/tuition-due-3/
CATEGORIES:Tuition & Fees Due
END:VEVENT
BEGIN:VEVENT
DTSTART;VALUE=DATE:20201101
DTEND;VALUE=DATE:20201102
DTSTAMP:20260423T144050
CREATED:20200914T225040Z
LAST-MODIFIED:20200914T225040Z
UID:824-1604188800-1604275199@www.lifehouseacademy.com
SUMMARY:Tuition Due
DESCRIPTION:
URL:https://www.lifehouseacademy.com/event/tuition-due-2/
CATEGORIES:Tuition & Fees Due
END:VEVENT
BEGIN:VEVENT
DTSTART;VALUE=DATE:20201001
DTEND;VALUE=DATE:20201002
DTSTAMP:20260423T144050
CREATED:20200914T223616Z
LAST-MODIFIED:20200914T224632Z
UID:812-1601510400-1601596799@www.lifehouseacademy.com
SUMMARY:Tuition & Company Costume Deposit Due
DESCRIPTION:Tuition Due \nCompany costume deposit due $100
URL:https://www.lifehouseacademy.com/event/tuition-company-costume-deposit-due/
CATEGORIES:Tuition & Fees Due
END:VEVENT
BEGIN:VEVENT
DTSTART;VALUE=DATE:20200901
DTEND;VALUE=DATE:20200902
DTSTAMP:20260423T144050
CREATED:20200914T223539Z
LAST-MODIFIED:20200914T223539Z
UID:810-1598918400-1599004799@www.lifehouseacademy.com
SUMMARY:Tuition Due
DESCRIPTION:
URL:https://www.lifehouseacademy.com/event/tuition-due/
CATEGORIES:Tuition & Fees Due
END:VEVENT
BEGIN:VEVENT
DTSTART;VALUE=DATE:20200819
DTEND;VALUE=DATE:20200820
DTSTAMP:20260423T144050
CREATED:20200914T223518Z
LAST-MODIFIED:20200914T223518Z
UID:808-1597795200-1597881599@www.lifehouseacademy.com
SUMMARY:1/2 Tuition Due for August
DESCRIPTION:
URL:https://www.lifehouseacademy.com/event/1-2-tuition-due-for-august/
CATEGORIES:Tuition & Fees Due
END:VEVENT
END:VCALENDAR